BEGIN:VCALENDAR
VERSION:2.0
PRODID:-//Park and Recreation - Prince Georges County MD - ECPv6.15.18//NONSGML v1.0//EN
CALSCALE:GREGORIAN
METHOD:PUBLISH
X-WR-CALNAME:Park and Recreation - Prince Georges County MD
X-ORIGINAL-URL:https://outdoors.pgparks.com
X-WR-CALDESC:Events for Park and Recreation - Prince Georges County MD
REFRESH-INTERVAL;VALUE=DURATION:PT1H
X-Robots-Tag:noindex
X-PUBLISHED-TTL:PT1H
BEGIN:VTIMEZONE
TZID:America/New_York
BEGIN:DAYLIGHT
TZOFFSETFROM:-0500
TZOFFSETTO:-0400
TZNAME:EDT
DTSTART:20250309T070000
END:DAYLIGHT
BEGIN:STANDARD
TZOFFSETFROM:-0400
TZOFFSETTO:-0500
TZNAME:EST
DTSTART:20251102T060000
END:STANDARD
BEGIN:DAYLIGHT
TZOFFSETFROM:-0500
TZOFFSETTO:-0400
TZNAME:EDT
DTSTART:20260308T070000
END:DAYLIGHT
BEGIN:STANDARD
TZOFFSETFROM:-0400
TZOFFSETTO:-0500
TZNAME:EST
DTSTART:20261101T060000
END:STANDARD
BEGIN:DAYLIGHT
TZOFFSETFROM:-0500
TZOFFSETTO:-0400
TZNAME:EDT
DTSTART:20270314T070000
END:DAYLIGHT
BEGIN:STANDARD
TZOFFSETFROM:-0400
TZOFFSETTO:-0500
TZNAME:EST
DTSTART:20271107T060000
END:STANDARD
END:VTIMEZONE
BEGIN:VEVENT
DTSTART;TZID=America/New_York:20260512T110000
DTEND;TZID=America/New_York:20260512T123000
DTSTAMP:20260423T184108
CREATED:20260225T153638Z
LAST-MODIFIED:20260326T132321Z
UID:10001455-1778583600-1778589000@outdoors.pgparks.com
SUMMARY:Fit & Strong
DESCRIPTION:Are you looking for a class to improve exercise frequency\, increase strength\, and help with goal setting to promote overall health? Join us for “Fit & Strong\,” an evidence-based physical activity program that combines aerobics\, stretching\, balance\, strength\, endurance exercises\, and health education to promote healthy behavior changes. Registration is required.
URL:https://outdoors.pgparks.com/event_list/fit-strong-3/2026-05-12
CATEGORIES:18 and up,Fitness,Free,Health & Wellness
ATTACH;FMTTYPE=image/jpeg:https://outdoors.pgparks.com/wp-content/uploads/2026/02/Fit-and-Strong-2026-600x400-1.jpg
END:VEVENT
BEGIN:VEVENT
DTSTART;TZID=America/New_York:20260513T080000
DTEND;TZID=America/New_York:20260513T090000
DTSTAMP:20260423T184108
CREATED:20260225T185207Z
LAST-MODIFIED:20260227T220141Z
UID:10001836-1778659200-1778662800@outdoors.pgparks.com
SUMMARY:Fitness in the Parks - AM Sweatshop
DESCRIPTION:Join us for this fun\, effective cardio workout that combines several different workout methods including aerobics and bodyweight strength training. Enjoy a high-energy group environment as you improve your strength and cardiovascular endurance.
URL:https://outdoors.pgparks.com/event_list/fitness-in-the-parks-am-sweatshop/2026-05-13
CATEGORIES:Fitness,Free,Health & Wellness
ATTACH;FMTTYPE=image/jpeg:https://outdoors.pgparks.com/wp-content/uploads/2025/02/Fitness-in-the-Parks-AM-Sweatshop-400x400-1.jpg
END:VEVENT
BEGIN:VEVENT
DTSTART;TZID=America/New_York:20260513T093000
DTEND;TZID=America/New_York:20260513T103000
DTSTAMP:20260423T184108
CREATED:20260225T153127Z
LAST-MODIFIED:20260317T140237Z
UID:10001324-1778664600-1778668200@outdoors.pgparks.com
SUMMARY:Living Strong
DESCRIPTION:Whether you’re a graduate of Fit & Strong! or new to group fitness and would like a challenge\, Living Strong is a great way to stay active and build strength in a supportive environment. This class includes strength training\, aerobic exercise\, balance\, flexibility and more\, along with goal setting to help you stay motivated and consistent. Come improve your endurance\, boost your energy\, and keep Living Strong!
URL:https://outdoors.pgparks.com/event_list/living-strong-2-2/2026-05-13
CATEGORIES:18 and up,Fitness,Health & Wellness
ATTACH;FMTTYPE=image/jpeg:https://outdoors.pgparks.com/wp-content/uploads/2026/02/Living-Strong-2026-600x400-1.jpg
END:VEVENT
BEGIN:VEVENT
DTSTART;TZID=America/New_York:20260513T180000
DTEND;TZID=America/New_York:20260513T190000
DTSTAMP:20260423T184108
CREATED:20260225T194526Z
LAST-MODIFIED:20260227T220036Z
UID:10001776-1778695200-1778698800@outdoors.pgparks.com
SUMMARY:Fitness in the Parks - Circuit Workout
DESCRIPTION:Shake up your routine with this dynamic Circuit Workout! Move through a series of timed exercises that target strength\, cardio\, and endurance—perfect for a full-body challenge. Work at your own pace with options for all fitness levels.
URL:https://outdoors.pgparks.com/event_list/fitness-in-the-parks-circuit-workout/2026-05-13
CATEGORIES:Fitness,Free,Health & Wellness
ATTACH;FMTTYPE=image/jpeg:https://outdoors.pgparks.com/wp-content/uploads/2024/03/Sat.-Total-Body-HIIT-Fitness.jpg
END:VEVENT
BEGIN:VEVENT
DTSTART;TZID=America/New_York:20260514T090000
DTEND;TZID=America/New_York:20260514T103000
DTSTAMP:20260423T184108
CREATED:20251210T184346Z
LAST-MODIFIED:20260326T132314Z
UID:10000808-1778749200-1778754600@outdoors.pgparks.com
SUMMARY:Fit & Strong
DESCRIPTION:Are you looking for a class to improve exercise frequency\, increase strength\, and help with goal setting to promote overall health? Join us for Fit & Strong\, a program that combines aerobics\, stretching\, balance\, strength\, endurance exercises\, and health education to promote healthy behavior changes. 
URL:https://outdoors.pgparks.com/event_list/fit-strong/2026-05-14
CATEGORIES:Fitness,Free,Health & Wellness
ATTACH;FMTTYPE=image/jpeg:https://outdoors.pgparks.com/wp-content/uploads/2026/02/Fit-and-Strong-2026-600x400-1.jpg
END:VEVENT
BEGIN:VEVENT
DTSTART;TZID=America/New_York:20260514T093000
DTEND;TZID=America/New_York:20260514T110000
DTSTAMP:20260423T184108
CREATED:20260225T154554Z
LAST-MODIFIED:20260326T132325Z
UID:10001580-1778751000-1778756400@outdoors.pgparks.com
SUMMARY:Fit & Strong
DESCRIPTION:Are you looking for a class to improve exercise frequency\, increase strength\, and help with goal setting to promote overall health? Join us for Fit & Strong!\, an evidence-based physical activity program that combines aerobics\, stretching\, balance\, strength\, endurance exercises\, and health education to promote healthy behavior changes. Registration is required.
URL:https://outdoors.pgparks.com/event_list/fit-strong-3-2/2026-05-14
CATEGORIES:Fitness,Free,Health & Wellness
ATTACH;FMTTYPE=image/jpeg:https://outdoors.pgparks.com/wp-content/uploads/2026/02/Fit-and-Strong-2026-600x400-1.jpg
END:VEVENT
BEGIN:VEVENT
DTSTART;TZID=America/New_York:20260514T110000
DTEND;TZID=America/New_York:20260514T114500
DTSTAMP:20260423T184108
CREATED:20260415T185738Z
LAST-MODIFIED:20260417T201344Z
UID:10003388-1778756400-1778759100@outdoors.pgparks.com
SUMMARY:Toddler Time: Spring Pollinators
DESCRIPTION:Give your little one a head start in understanding the importance of the environment through hands‑on activities\, stories\, songs\, crafts\, and nature exploration\, with each class focusing on a different theme about animals\, plants\, and habitats. Use your senses to learn\, sing\, and enjoy nature with us. Children must be accompanied by an adult.
URL:https://outdoors.pgparks.com/event_list/toddler-time-spring-pollinators
CATEGORIES:Lifestyle & Learning,Nature & Outdoor,Youth
ATTACH;FMTTYPE=image/heic:https://outdoors.pgparks.com/wp-content/uploads/2026/04/MRNC-Toddler-Time-2.jpg
END:VEVENT
BEGIN:VEVENT
DTSTART;TZID=America/New_York:20260514T110000
DTEND;TZID=America/New_York:20260514T123000
DTSTAMP:20260423T184108
CREATED:20260225T153638Z
LAST-MODIFIED:20260326T132321Z
UID:10001456-1778756400-1778761800@outdoors.pgparks.com
SUMMARY:Fit & Strong
DESCRIPTION:Are you looking for a class to improve exercise frequency\, increase strength\, and help with goal setting to promote overall health? Join us for “Fit & Strong\,” an evidence-based physical activity program that combines aerobics\, stretching\, balance\, strength\, endurance exercises\, and health education to promote healthy behavior changes. Registration is required.
URL:https://outdoors.pgparks.com/event_list/fit-strong-3/2026-05-14
CATEGORIES:18 and up,Fitness,Free,Health & Wellness
ATTACH;FMTTYPE=image/jpeg:https://outdoors.pgparks.com/wp-content/uploads/2026/02/Fit-and-Strong-2026-600x400-1.jpg
END:VEVENT
BEGIN:VEVENT
DTSTART;TZID=America/New_York:20260514T130000
DTEND;TZID=America/New_York:20260514T140000
DTSTAMP:20260423T184108
CREATED:20260227T144226Z
LAST-MODIFIED:20260312T171846Z
UID:10002322-1778763600-1778767200@outdoors.pgparks.com
SUMMARY:Farm Science: Fantastic Feathers
DESCRIPTION:Join us for a hands‑on look at feathers and the animals that rely on them! Learn how to identify different feather types\, understand their parts\, and see how animals use them in everyday life.
URL:https://outdoors.pgparks.com/event_list/farm-science-fantastic-feathers
CATEGORIES:Lifestyle & Learning,Nature & Outdoor,Youth
ATTACH;FMTTYPE=image/jpeg:https://outdoors.pgparks.com/wp-content/uploads/2023/07/OMF-2.jpg
END:VEVENT
BEGIN:VEVENT
DTSTART;TZID=America/New_York:20260514T180000
DTEND;TZID=America/New_York:20260514T190000
DTSTAMP:20260423T184108
CREATED:20260225T201630Z
LAST-MODIFIED:20260323T175426Z
UID:10001716-1778781600-1778785200@outdoors.pgparks.com
SUMMARY:Fitness in the Parks - Zumba
DESCRIPTION:Dance your way into fitness with this outdoor Zumba® class! The use of multicultural dance themes create a dynamic and exciting total body fitness routine. Experience Zumba’s benefits to your mood\, heart\, and dance skills!
URL:https://outdoors.pgparks.com/event_list/fitness-in-the-parks-zumba-2/2026-05-14
CATEGORIES:Fitness,Free,Health & Wellness
ATTACH;FMTTYPE=image/jpeg:https://outdoors.pgparks.com/wp-content/uploads/2026/02/Fitness-in-the-Parks-Zumba-2026-600x400-1.jpg
END:VEVENT
BEGIN:VEVENT
DTSTART;TZID=America/New_York:20260514T180000
DTEND;TZID=America/New_York:20260514T190000
DTSTAMP:20260423T184108
CREATED:20260225T210209Z
LAST-MODIFIED:20260225T221106Z
UID:10002209-1778781600-1778785200@outdoors.pgparks.com
SUMMARY:Get Fit Mobile: Fitness on the Fly
DESCRIPTION:Join our outdoor mobile fitness experience in the scenic parks of Prince George’s County! The Get Fit Mobile unit will supply a range of fitness equipment to create a vibrant workout experience. This class will feature a fusion of body weight\, strength\, and cardio exercises. All fitness levels welcome! Please bring a mat or towel to class. Ages 13 & up; FREE  
URL:https://outdoors.pgparks.com/event_list/get-fit-mobile-fitness-on-the-fly/2026-05-14
CATEGORIES:Fitness,Free,Health & Wellness
ATTACH;FMTTYPE=image/jpeg:https://outdoors.pgparks.com/wp-content/uploads/2026/02/Get-Fit-Mobile-2026-600x400-1.jpg
END:VEVENT
BEGIN:VEVENT
DTSTART;TZID=America/New_York:20260514T180000
DTEND;TZID=America/New_York:20260514T190000
DTSTAMP:20260423T184108
CREATED:20260225T210415Z
LAST-MODIFIED:20260227T214633Z
UID:10002261-1778781600-1778785200@outdoors.pgparks.com
SUMMARY:Get Fit Mobile: Fitness on the Fly
DESCRIPTION:Join our outdoor mobile fitness experience in the scenic parks of Prince George’s County! The Get Fit Mobile unit will supply a range of fitness equipment to create a vibrant workout experience. This class will feature a fusion of body weight\, strength\, and cardio exercises. All fitness levels welcome! Please bring a mat or towel to class. Ages 13 & up; FREE  
URL:https://outdoors.pgparks.com/event_list/get-fit-mobile-fitness-on-the-fly-2/2026-05-14
CATEGORIES:Fitness,Free,Health & Wellness
ATTACH;FMTTYPE=image/jpeg:https://outdoors.pgparks.com/wp-content/uploads/2026/02/Get-Fit-Mobile-2026-600x400-1.jpg
END:VEVENT
BEGIN:VEVENT
DTSTART;TZID=America/New_York:20260516T080000
DTEND;TZID=America/New_York:20260516T170000
DTSTAMP:20260423T184108
CREATED:20260225T203647Z
LAST-MODIFIED:20260227T215647Z
UID:10001954-1778918400-1778950800@outdoors.pgparks.com
SUMMARY:Fitness in the Parks - Full Body Sculpt: Strength & Conditioning  
DESCRIPTION:Join us for an energetic fitness class that is designed to engage and strengthen every major muscle group. This workout program integrates body weight exercises\, cardiovascular endurance and functional movements which help with the development of lean muscle\, improved mobility\, with the accountability and support of group training.
URL:https://outdoors.pgparks.com/event_list/fitness-in-the-parks-full-body-sculpt-strength-conditioning/2026-05-16
CATEGORIES:Fitness,Free,Health & Wellness
END:VEVENT
BEGIN:VEVENT
DTSTART;TZID=America/New_York:20260516T103000
DTEND;TZID=America/New_York:20260516T113000
DTSTAMP:20260423T184108
CREATED:20260205T145559Z
LAST-MODIFIED:20260224T192632Z
UID:10001190-1778927400-1778931000@outdoors.pgparks.com
SUMMARY:Bilingual Cub Corner
DESCRIPTION:Join us for a bilingual (Spanish and English) reading of “Avioncito” by May Clerici. After the story\, little learners can fold their own paper planes and test them out on our paper plane launcher! This program is recommended for children ages 3-6. FREE with museum admission. No registration required.
URL:https://outdoors.pgparks.com/event_list/bilingual-cub-corner/2026-05-16
CATEGORIES:250th Anniversary,Free,History,Lifestyle & Learning,Youth
ATTACH;FMTTYPE=image/jpeg:https://outdoors.pgparks.com/wp-content/uploads/2024/11/Cub-Corner.jpg
END:VEVENT
BEGIN:VEVENT
DTSTART;TZID=America/New_York:20260516T103000
DTEND;TZID=America/New_York:20260516T113000
DTSTAMP:20260423T184108
CREATED:20260225T204219Z
LAST-MODIFIED:20260319T142325Z
UID:10002015-1778927400-1778931000@outdoors.pgparks.com
SUMMARY:Fitness in the Parks - Family Zumba
DESCRIPTION:Dance your way into fitness with a family Zumba® class! This class brings together all members of your family for fun and easy-to-follow dance moves to upbeat music.
URL:https://outdoors.pgparks.com/event_list/fitness-in-the-parks-family-zumba/2026-05-16
CATEGORIES:Fitness,Free,Health & Wellness
ATTACH;FMTTYPE=image/jpeg:https://outdoors.pgparks.com/wp-content/uploads/2025/02/Fitness-in-the-Parks-Family-Zumba-400x400-1.jpg
END:VEVENT
BEGIN:VEVENT
DTSTART;TZID=America/New_York:20260516T120000
DTEND;TZID=America/New_York:20260516T160000
DTSTAMP:20260423T184108
CREATED:20251224T141430Z
LAST-MODIFIED:20260303T181019Z
UID:10000898-1778932800-1778947200@outdoors.pgparks.com
SUMMARY:Dinosaur Park Open House
DESCRIPTION:Dinosaur Park Open Houses are a free public program on the first and third Saturday of every month and the second Sunday in the summer. No reservations required. Come join us and learn more about fossils\, including the dinosaurs who used to call Maryland home. Guests can expect an orientation and then the opportunity to search the surface of the ground for fossils. No prior registration required. ASL interpretation is offered at each event. All park rules apply (listed below).1. Closed toed shoes required2. No pets or tools allowed inside the fossil site3. Guests cannot cross the rope fence4. There is no digging during this program. All fossils are naturally eroding from the ground5. No running in the fossil site6. No throwing rocks or rolling rocks7. All scientifically important fossils will be kept in trust with the commission to be used for current and future research
URL:https://outdoors.pgparks.com/event_list/dinosaur-park-open-house/2026-05-16
CATEGORIES:All Ages,Free,History,Lifestyle & Learning,Youth
ATTACH;FMTTYPE=image/png:https://outdoors.pgparks.com/wp-content/uploads/2025/12/Dinosaur-Park-600x400-1.png
END:VEVENT
BEGIN:VEVENT
DTSTART;TZID=America/New_York:20260516T130000
DTEND;TZID=America/New_York:20260516T143000
DTSTAMP:20260423T184108
CREATED:20260319T132131Z
LAST-MODIFIED:20260323T153103Z
UID:10002797-1778936400-1778941800@outdoors.pgparks.com
SUMMARY:Herbs\, Tea\, and Potpourri: A Wellness Month Program
DESCRIPTION:Please join Annmarie Buckley for a hands-on presentation to learn about herbs for food and medicine\, and how women\, free and enslaved\, used herbs and tea. Light refreshments will be served.
URL:https://outdoors.pgparks.com/event_list/herbs-tea-and-potpourri-a-wellness-month-program
CATEGORIES:Free,History,Lifestyle & Learning
ATTACH;FMTTYPE=image/jpeg:https://outdoors.pgparks.com/wp-content/uploads/2026/03/Herbs-tea-and-potpurri-2026-600x400-1.jpg
END:VEVENT
BEGIN:VEVENT
DTSTART;TZID=America/New_York:20260517T090000
DTEND;TZID=America/New_York:20260517T103000
DTSTAMP:20260423T184108
CREATED:20260402T120819Z
LAST-MODIFIED:20260417T141756Z
UID:10003285-1779008400-1779013800@outdoors.pgparks.com
SUMMARY:Pollinator Party
DESCRIPTION:Celebrate World Bee Day by learning about the many types of pollinators and their crucial role in the ecosystem through a short lecture followed by a fun craft activity.
URL:https://outdoors.pgparks.com/event_list/pollinator-party
CATEGORIES:All Ages,Lifestyle & Learning,Nature & Outdoor,Youth
ATTACH;FMTTYPE=image/jpeg:https://outdoors.pgparks.com/wp-content/uploads/2026/04/NEAKaboomDay3-25-215.jpg
END:VEVENT
BEGIN:VEVENT
DTSTART;TZID=America/New_York:20260518T083000
DTEND;TZID=America/New_York:20260518T093000
DTSTAMP:20260423T184108
CREATED:20260331T053000Z
LAST-MODIFIED:20260330T113202Z
UID:10003209-1779093000-1779096600@outdoors.pgparks.com
SUMMARY:Fitness in the Parks - Urban Line Dancing   
DESCRIPTION:Let your creativity loose on the dance floor! Learn all the latest dances suitable for beginners and seasoned line dancers. Enjoy this great way to exercise\, socialize\, and energize yourself.
URL:https://outdoors.pgparks.com/event_list/fitness-in-the-parks-urban-line-dancing/2026-05-18
CATEGORIES:Fitness,Free,Health & Wellness
ATTACH;FMTTYPE=image/jpeg:https://outdoors.pgparks.com/wp-content/uploads/2026/02/Fitness-in-the-Parks-Spring-Kickoff-2026-600x400-1.jpg
END:VEVENT
BEGIN:VEVENT
DTSTART;TZID=America/New_York:20260518T093000
DTEND;TZID=America/New_York:20260518T103000
DTSTAMP:20260423T184108
CREATED:20260225T153127Z
LAST-MODIFIED:20260317T140237Z
UID:10001325-1779096600-1779100200@outdoors.pgparks.com
SUMMARY:Living Strong
DESCRIPTION:Whether you’re a graduate of Fit & Strong! or new to group fitness and would like a challenge\, Living Strong is a great way to stay active and build strength in a supportive environment. This class includes strength training\, aerobic exercise\, balance\, flexibility and more\, along with goal setting to help you stay motivated and consistent. Come improve your endurance\, boost your energy\, and keep Living Strong!
URL:https://outdoors.pgparks.com/event_list/living-strong-2-2/2026-05-18
CATEGORIES:18 and up,Fitness,Health & Wellness
ATTACH;FMTTYPE=image/jpeg:https://outdoors.pgparks.com/wp-content/uploads/2026/02/Living-Strong-2026-600x400-1.jpg
END:VEVENT
BEGIN:VEVENT
DTSTART;TZID=America/New_York:20260518T183000
DTEND;TZID=America/New_York:20260518T193000
DTSTAMP:20260423T184108
CREATED:20260225T184825Z
LAST-MODIFIED:20260227T220807Z
UID:10001897-1779129000-1779132600@outdoors.pgparks.com
SUMMARY:Fitness in the Parks - Zumba
DESCRIPTION:Dance your way into fitness with this Zumba® class!  The use of multicultural dance themes create a dynamic and exciting total body fitness routine. Experience Zumba’s benefits to your mood\, heart\, and dance skills!
URL:https://outdoors.pgparks.com/event_list/fitness-in-the-parks-zumba/2026-05-18
CATEGORIES:Fitness,Free,Health & Wellness
ATTACH;FMTTYPE=image/jpeg:https://outdoors.pgparks.com/wp-content/uploads/2026/02/Fitness-in-the-Parks-Zumba-2026-600x400-1.jpg
END:VEVENT
BEGIN:VEVENT
DTSTART;TZID=America/New_York:20260519T090000
DTEND;TZID=America/New_York:20260519T103000
DTSTAMP:20260423T184108
CREATED:20251210T184346Z
LAST-MODIFIED:20260326T132314Z
UID:10000809-1779181200-1779186600@outdoors.pgparks.com
SUMMARY:Fit & Strong
DESCRIPTION:Are you looking for a class to improve exercise frequency\, increase strength\, and help with goal setting to promote overall health? Join us for Fit & Strong\, a program that combines aerobics\, stretching\, balance\, strength\, endurance exercises\, and health education to promote healthy behavior changes. 
URL:https://outdoors.pgparks.com/event_list/fit-strong/2026-05-19
CATEGORIES:Fitness,Free,Health & Wellness
ATTACH;FMTTYPE=image/jpeg:https://outdoors.pgparks.com/wp-content/uploads/2026/02/Fit-and-Strong-2026-600x400-1.jpg
END:VEVENT
BEGIN:VEVENT
DTSTART;TZID=America/New_York:20260519T093000
DTEND;TZID=America/New_York:20260519T110000
DTSTAMP:20260423T184108
CREATED:20260225T154554Z
LAST-MODIFIED:20260326T132325Z
UID:10001581-1779183000-1779188400@outdoors.pgparks.com
SUMMARY:Fit & Strong
DESCRIPTION:Are you looking for a class to improve exercise frequency\, increase strength\, and help with goal setting to promote overall health? Join us for Fit & Strong!\, an evidence-based physical activity program that combines aerobics\, stretching\, balance\, strength\, endurance exercises\, and health education to promote healthy behavior changes. Registration is required.
URL:https://outdoors.pgparks.com/event_list/fit-strong-3-2/2026-05-19
CATEGORIES:Fitness,Free,Health & Wellness
ATTACH;FMTTYPE=image/jpeg:https://outdoors.pgparks.com/wp-content/uploads/2026/02/Fit-and-Strong-2026-600x400-1.jpg
END:VEVENT
BEGIN:VEVENT
DTSTART;TZID=America/New_York:20260519T110000
DTEND;TZID=America/New_York:20260519T123000
DTSTAMP:20260423T184108
CREATED:20260225T153638Z
LAST-MODIFIED:20260326T132321Z
UID:10001457-1779188400-1779193800@outdoors.pgparks.com
SUMMARY:Fit & Strong
DESCRIPTION:Are you looking for a class to improve exercise frequency\, increase strength\, and help with goal setting to promote overall health? Join us for “Fit & Strong\,” an evidence-based physical activity program that combines aerobics\, stretching\, balance\, strength\, endurance exercises\, and health education to promote healthy behavior changes. Registration is required.
URL:https://outdoors.pgparks.com/event_list/fit-strong-3/2026-05-19
CATEGORIES:18 and up,Fitness,Free,Health & Wellness
ATTACH;FMTTYPE=image/jpeg:https://outdoors.pgparks.com/wp-content/uploads/2026/02/Fit-and-Strong-2026-600x400-1.jpg
END:VEVENT
BEGIN:VEVENT
DTSTART;TZID=America/New_York:20260519T130000
DTEND;TZID=America/New_York:20260519T140000
DTSTAMP:20260423T184108
CREATED:20260227T154315Z
LAST-MODIFIED:20260304T142534Z
UID:10002392-1779195600-1779199200@outdoors.pgparks.com
SUMMARY:Growing in the Garden: A 3-Part Learning Series
DESCRIPTION:Give your child a hands‑on introduction to gardening and agriculture through this fun\, three‑session program. Each class encourages kids to explore\, observe\, and record what they discover in the garden. \n\n\n\nThe registration fee covers all three classes.Each session must be attended.Each session builds on the one before it. \n\n\n\nSessions: \n\n\n\nTue\, March 24\, 1-2 pm \n\n\n\nTue\, April 28\, 1-2 pm \n\n\n\nTue\, May 19\, 1-2 pm
URL:https://outdoors.pgparks.com/event_list/growing-in-the-garden/2026-05-19
CATEGORIES:Lifestyle & Learning,Nature & Outdoor,Youth
ATTACH;FMTTYPE=image/jpeg:https://outdoors.pgparks.com/wp-content/uploads/2026/02/OMF-Kids-Planting-2026-600x400-1.jpg
END:VEVENT
BEGIN:VEVENT
DTSTART;TZID=America/New_York:20260520T080000
DTEND;TZID=America/New_York:20260520T090000
DTSTAMP:20260423T184108
CREATED:20260225T185207Z
LAST-MODIFIED:20260227T220141Z
UID:10001837-1779264000-1779267600@outdoors.pgparks.com
SUMMARY:Fitness in the Parks - AM Sweatshop
DESCRIPTION:Join us for this fun\, effective cardio workout that combines several different workout methods including aerobics and bodyweight strength training. Enjoy a high-energy group environment as you improve your strength and cardiovascular endurance.
URL:https://outdoors.pgparks.com/event_list/fitness-in-the-parks-am-sweatshop/2026-05-20
CATEGORIES:Fitness,Free,Health & Wellness
ATTACH;FMTTYPE=image/jpeg:https://outdoors.pgparks.com/wp-content/uploads/2025/02/Fitness-in-the-Parks-AM-Sweatshop-400x400-1.jpg
END:VEVENT
BEGIN:VEVENT
DTSTART;TZID=America/New_York:20260520T093000
DTEND;TZID=America/New_York:20260520T103000
DTSTAMP:20260423T184108
CREATED:20260225T153127Z
LAST-MODIFIED:20260317T140237Z
UID:10001326-1779269400-1779273000@outdoors.pgparks.com
SUMMARY:Living Strong
DESCRIPTION:Whether you’re a graduate of Fit & Strong! or new to group fitness and would like a challenge\, Living Strong is a great way to stay active and build strength in a supportive environment. This class includes strength training\, aerobic exercise\, balance\, flexibility and more\, along with goal setting to help you stay motivated and consistent. Come improve your endurance\, boost your energy\, and keep Living Strong!
URL:https://outdoors.pgparks.com/event_list/living-strong-2-2/2026-05-20
CATEGORIES:18 and up,Fitness,Health & Wellness
ATTACH;FMTTYPE=image/jpeg:https://outdoors.pgparks.com/wp-content/uploads/2026/02/Living-Strong-2026-600x400-1.jpg
END:VEVENT
BEGIN:VEVENT
DTSTART;TZID=America/New_York:20260520T110000
DTEND;TZID=America/New_York:20260520T120000
DTSTAMP:20260423T184108
CREATED:20260327T134636Z
LAST-MODIFIED:20260402T124045Z
UID:10003288-1779274800-1779278400@outdoors.pgparks.com
SUMMARY:Nature: Wild Reading
DESCRIPTION:Give your child a jump start in literacy as they enjoy a short story with a park naturalist\, followed by questions\, creative crafts\, nature exploration\, and a guided walk around the center to learn fun facts about live animals—making a love for reading feel like second nature. \n\n\n\nThis program\, held at Clearwater Nature Center\, requires all children to be individually registered in advance through ParksDirect\, must include a parent or guardian to assist with activities\, may be canceled if registrations are insufficient\, and may include outdoor components\, so please dress for the weather.
URL:https://outdoors.pgparks.com/event_list/nature-wild-reading/2026-05-20
CATEGORIES:Arts,Lifestyle & Learning,Literary,Nature & Outdoor,Youth
ATTACH;FMTTYPE=image/jpeg:https://outdoors.pgparks.com/wp-content/uploads/2024/10/1215221051a.jpg
END:VEVENT
BEGIN:VEVENT
DTSTART;TZID=America/New_York:20260520T180000
DTEND;TZID=America/New_York:20260520T190000
DTSTAMP:20260423T184108
CREATED:20260225T194526Z
LAST-MODIFIED:20260227T220036Z
UID:10001777-1779300000-1779303600@outdoors.pgparks.com
SUMMARY:Fitness in the Parks - Circuit Workout
DESCRIPTION:Shake up your routine with this dynamic Circuit Workout! Move through a series of timed exercises that target strength\, cardio\, and endurance—perfect for a full-body challenge. Work at your own pace with options for all fitness levels.
URL:https://outdoors.pgparks.com/event_list/fitness-in-the-parks-circuit-workout/2026-05-20
CATEGORIES:Fitness,Free,Health & Wellness
ATTACH;FMTTYPE=image/jpeg:https://outdoors.pgparks.com/wp-content/uploads/2024/03/Sat.-Total-Body-HIIT-Fitness.jpg
END:VEVENT
BEGIN:VEVENT
DTSTART;TZID=America/New_York:20260521T090000
DTEND;TZID=America/New_York:20260521T103000
DTSTAMP:20260423T184108
CREATED:20251210T184346Z
LAST-MODIFIED:20260326T132314Z
UID:10000810-1779354000-1779359400@outdoors.pgparks.com
SUMMARY:Fit & Strong
DESCRIPTION:Are you looking for a class to improve exercise frequency\, increase strength\, and help with goal setting to promote overall health? Join us for Fit & Strong\, a program that combines aerobics\, stretching\, balance\, strength\, endurance exercises\, and health education to promote healthy behavior changes. 
URL:https://outdoors.pgparks.com/event_list/fit-strong/2026-05-21
CATEGORIES:Fitness,Free,Health & Wellness
ATTACH;FMTTYPE=image/jpeg:https://outdoors.pgparks.com/wp-content/uploads/2026/02/Fit-and-Strong-2026-600x400-1.jpg
END:VEVENT
END:VCALENDAR