BEGIN:VCALENDAR
VERSION:2.0
PRODID:-//Park and Recreation - Prince Georges County MD - ECPv6.15.18//NONSGML v1.0//EN
CALSCALE:GREGORIAN
METHOD:PUBLISH
X-WR-CALNAME:Park and Recreation - Prince Georges County MD
X-ORIGINAL-URL:https://outdoors.pgparks.com
X-WR-CALDESC:Events for Park and Recreation - Prince Georges County MD
REFRESH-INTERVAL;VALUE=DURATION:PT1H
X-Robots-Tag:noindex
X-PUBLISHED-TTL:PT1H
BEGIN:VTIMEZONE
TZID:America/New_York
BEGIN:DAYLIGHT
TZOFFSETFROM:-0500
TZOFFSETTO:-0400
TZNAME:EDT
DTSTART:20250309T070000
END:DAYLIGHT
BEGIN:STANDARD
TZOFFSETFROM:-0400
TZOFFSETTO:-0500
TZNAME:EST
DTSTART:20251102T060000
END:STANDARD
BEGIN:DAYLIGHT
TZOFFSETFROM:-0500
TZOFFSETTO:-0400
TZNAME:EDT
DTSTART:20260308T070000
END:DAYLIGHT
BEGIN:STANDARD
TZOFFSETFROM:-0400
TZOFFSETTO:-0500
TZNAME:EST
DTSTART:20261101T060000
END:STANDARD
BEGIN:DAYLIGHT
TZOFFSETFROM:-0500
TZOFFSETTO:-0400
TZNAME:EDT
DTSTART:20270314T070000
END:DAYLIGHT
BEGIN:STANDARD
TZOFFSETFROM:-0400
TZOFFSETTO:-0500
TZNAME:EST
DTSTART:20271107T060000
END:STANDARD
END:VTIMEZONE
BEGIN:VEVENT
DTSTART;TZID=America/New_York:20260314T140000
DTEND;TZID=America/New_York:20260314T160000
DTSTAMP:20260421T152635
CREATED:20251111T222605Z
LAST-MODIFIED:20260225T150104Z
UID:10000024-1773496800-1773504000@outdoors.pgparks.com
SUMMARY:Amanda Spaid: Locals - Public Reception
DESCRIPTION:* This exhibition runs Mar. 12–May 2\, with a public reception on Sat.\, Mar. 14. * \n\n\n\nAmanda Spaid turned her focus to hyper-local subjects\, creating detailed drawings of birds found throughout the D.C. area. By slowing down and closely observing the natural life unfolding in our own backyards\, she invites viewers to reconsider their relationship with the places they inhabit. Her work encourages thoughtful stewardship of local ecosystems\, inspiring decisions that benefit all who share them\, from humans to birds alike.
URL:https://outdoors.pgparks.com/event_list/amanda-spaid-locals-public-reception
CATEGORIES:All Ages,Arts,Exhibition,Free,Public Reception
ATTACH;FMTTYPE=image/png:https://outdoors.pgparks.com/wp-content/uploads/2025/09/Amanda-SPaid-400x400-1.png
END:VEVENT
BEGIN:VEVENT
DTSTART;TZID=America/New_York:20260314T140000
DTEND;TZID=America/New_York:20260314T160000
DTSTAMP:20260421T152635
CREATED:20251111T222620Z
LAST-MODIFIED:20260220T211251Z
UID:10000053-1773496800-1773504000@outdoors.pgparks.com
SUMMARY:Chris Kirages: Making the World a Better Plate - Public Reception
DESCRIPTION:* This exhibition runs Mar. 14–Apr. 12\, with a public reception on Sat.\, Mar. 14.  * \n\n\n\nThis exhibit consists of two dinnerware designs that are distinctly different. They are both stoneware and made for everyday use in a light and dark clay body with a variety of glazes. The Cafe is a heavy rimmed everyday plate that can take rough use. Think blue plate special at lunch hour in a busy diner. Terra is a sleeker\, everyday dinnerware. Think good food with good friends\, casual and elegant.
URL:https://outdoors.pgparks.com/event_list/chris-kirages-public-reception
CATEGORIES:All Ages,Arts,Exhibition,Free,Public Reception
ATTACH;FMTTYPE=image/jpeg:https://outdoors.pgparks.com/wp-content/uploads/2025/11/Chris-Kirages-2026-600x400-1.jpg
END:VEVENT
BEGIN:VEVENT
DTSTART;TZID=America/New_York:20260321T130000
DTEND;TZID=America/New_York:20260321T150000
DTSTAMP:20260421T152635
CREATED:20251111T222613Z
LAST-MODIFIED:20260225T182657Z
UID:10000036-1774098000-1774105200@outdoors.pgparks.com
SUMMARY:Artists on the Rise: Juried Teen Exhibition - Public Reception and Awards
DESCRIPTION:* This exhibition runs Mar. 12–Apr. 11\, with a public reception and awards ceremony on Sat.\, Mar. 21. * \n\n\n\n \n\n\n\nMontpelier Arts Center strives to foster a positive\, creative environment where young and emerging artists realize their full potential. Now in its 14th year\, this annual exhibition spotlights the talents of visual artists ages 13-19 from the Washington\, D.C.\, area. The juror awards prizes based on artistic excellence\, with cash prizes for first\, second\, and third place. Beginning in winter 2025\, interested teens may submit work online for consideration at MontpelierArtsCenter.submittable.com.
URL:https://outdoors.pgparks.com/event_list/artists-on-the-rise-juried-teen-exhibition-public-reception-and-awards
CATEGORIES:All Ages,Arts,Exhibition,Free,Public Reception
ATTACH;FMTTYPE=image/png:https://outdoors.pgparks.com/wp-content/uploads/2025/09/Artists-on-the-Rise-Juried-Teen-Exhibition-400x400-1.png
END:VEVENT
BEGIN:VEVENT
DTSTART;TZID=America/New_York:20260328T140000
DTEND;TZID=America/New_York:20260328T160000
DTSTAMP:20260421T152635
CREATED:20251111T222642Z
LAST-MODIFIED:20260220T191634Z
UID:10000144-1774706400-1774713600@outdoors.pgparks.com
SUMMARY:Ju Yun: Where You Belong - Public Reception
DESCRIPTION:* This exhibition runs Mar. 23–May 2\, with a public reception on Sat.\, Mar. 28. * \n\n\n\nSouth Korean artist Ju Yun navigates the tension between two contrasting worlds. Transitioning from traditional Korean art to fully contemporary subjects and techniques\, Yun embraces the space in between. Through layered compositions of polymer clay and found objects\, their mask projects explore themes of hybrid identity—transforming existing forms into something new\, reshaping meaning\, and influencing others.
URL:https://outdoors.pgparks.com/event_list/ju-yun-where-you-belong-public-reception
CATEGORIES:All Ages,Arts,Exhibition,Free,Public Reception
ATTACH;FMTTYPE=image/png:https://outdoors.pgparks.com/wp-content/uploads/2025/01/Ju-Yun-400x400-1.png
END:VEVENT
BEGIN:VEVENT
DTSTART;TZID=America/New_York:20260328T140000
DTEND;TZID=America/New_York:20260328T160000
DTSTAMP:20260421T152635
CREATED:20251111T222649Z
LAST-MODIFIED:20260220T191528Z
UID:10000150-1774706400-1774713600@outdoors.pgparks.com
SUMMARY:Kimberly Margioni: Fluid Nature - Public Reception
DESCRIPTION:* This exhibition runs Mar. 23–May 2\, with a public reception on Sat.\, Mar. 28. * \n\n\n\nKimberly Margioni’s work explores the delicate balance between nature\, emotion\, and cultural heritage. Drawing inspiration from the world around her—the vibrant landscapes or the quiet beauty of everyday moments—she seeks to capture the essence of life in its raw\, unfiltered form. Her creative process is rooted in the belief that art has the power to transcend boundaries and speak directly to the soul. Each piece reflects her travel journey\, an invitation to feel deeply and connect with the universal experience of love\, resilience\, and transformation. As a current naval officer and mechanical engineer\, she brings a unique perspective to her art\, breaking from the rigidity of her day-to-day to dive into her abstract\, fluid\, imperfect approach with emotional depth. This creates both structured and fluid works\, grounded yet ever evolving.
URL:https://outdoors.pgparks.com/event_list/kimberly-margioni-fluid-nature-public-reception
CATEGORIES:All Ages,Arts,Exhibition,Free,Public Reception
ATTACH;FMTTYPE=image/jpeg:https://outdoors.pgparks.com/wp-content/uploads/2024/11/WebsiteBlocks20242.jpg
END:VEVENT
BEGIN:VEVENT
DTSTART;TZID=America/New_York:20260402T180000
DTEND;TZID=America/New_York:20260402T200000
DTSTAMP:20260421T152635
CREATED:20251111T195501Z
LAST-MODIFIED:20260407T141054Z
UID:10000470-1775152800-1775160000@outdoors.pgparks.com
SUMMARY:Artist Reception: Roxana Rojas-Luzón: Paper Rhapsody
DESCRIPTION:RECEPTION EVENT IS POSTPONED UNTIL FURTHER NOTICE  \n\n\n\n* This exhibition runs Mar. 23–May 17\, with a public reception on Thu.\, Apr. 2. * \n\n\n\nRoxana is a collage artist fascinated by the art of collage. She uses snippets of magazine paper\, fabric\, photographs\, pencil drawings\, raw pigments\, and anything that enriches the texture and color of her images. Her goal is for each of her art pieces to awaken feelings in the viewer. Consolation\, love\, festivity\, protection\, happiness\, innocence\, and solitude are words that she has heard others use to describe her collages. \n\n\n\nThis exhibit will be on display at the Publick Playhouse from March 23-May 17\, 2026\, and can be viewed during regular facility hours (M-F\, 9 am-5 pm). Please note that exhibits cannot be viewed when a performance or event is in progress. Before viewing an exhibit\, please call the Box Office at 301-277-1710 to check the performance schedule.
URL:https://outdoors.pgparks.com/event_list/artist-reception-roxana-rojas-luzon-paper-rhapsody
CATEGORIES:All Ages,Arts,Exhibition,Free,Public Reception
ATTACH;FMTTYPE=image/png:https://outdoors.pgparks.com/wp-content/uploads/2025/07/Rojas-PPH.png
END:VEVENT
BEGIN:VEVENT
DTSTART;TZID=America/New_York:20260411T170000
DTEND;TZID=America/New_York:20260411T200000
DTSTAMP:20260421T152635
CREATED:20251111T222620Z
LAST-MODIFIED:20260318T181443Z
UID:10000050-1775926800-1775937600@outdoors.pgparks.com
SUMMARY:Borderless - Opening Reception
DESCRIPTION:* This exhibition runs Apr. 6–May 30\, with a public reception on Sat.\, Apr. 11 and an artist and curator talk on Sat.\, May 9. * \n\n\n\nCurated by Akemi Maegawa in celebration of Asian American and Pacific Islander Heritage Month\, Borderless explores themes of identity\, migration\, and cultural fluidity. Featuring Jeff Huntington (JAHRU)\, Mei Mei Chang\, Tang\, June Lee\, and Julia Chon\, this exhibition highlights the diverse artistic expressions of AAPI artists who challenge boundaries—both literal and conceptual. Through dynamic visual storytelling and innovative materials\, Borderless reflects the interconnectedness of heritage and contemporary experience\, embracing art as a space without limits.
URL:https://outdoors.pgparks.com/event_list/borderless-opening-reception
CATEGORIES:All Ages,Arts,Exhibition,Free,Public Reception
ATTACH;FMTTYPE=image/jpeg:https://outdoors.pgparks.com/wp-content/uploads/2025/11/Borderless-2026-600x400-1.jpg
END:VEVENT
BEGIN:VEVENT
DTSTART;TZID=America/New_York:20260411T170000
DTEND;TZID=America/New_York:20260411T200000
DTSTAMP:20260421T152635
CREATED:20251121T195117Z
LAST-MODIFIED:20260408T184538Z
UID:10000418-1775926800-1775937600@outdoors.pgparks.com
SUMMARY:Maurice Barnes & Nonja Tiller: Real Characters - Opening Reception
DESCRIPTION:An exhibition partnership with Art Enables \n\n\n\nThis exhibition runs Apr. 6-May 30\, with an opening reception on Sat.\, Apr. 11 and a Closing Workshop on Sat.\, May 30 \n\n\n\n \n\n\n\nArt Enables presents Maurice Barnes & Nonja Tiller: Real Characters for the first part of the Art Enables at Brentwood series. Barnes and Tiller\, both prolific and long-time Art Enables resident artists\, bring their unique illustrative work to life\, filled with narrative depth\, keen observation\, and expressive characters. Barnes’ colored pencil drawings depict vibrant scenes from everyday life\, evoking a wide range of emotions\, from laughter to surprise\, tension\, and compassion. They create a complex emotional landscape that reflects a deep sensitivity to individual experiences. Tiller’s ink drawings\, brimming with whimsical and surreal creatures\, often merge the familiar with the fantastic. Her works are populated by relatable human figures and alien-like beings\, exploring raw emotions and gritty storytelling.
URL:https://outdoors.pgparks.com/event_list/maurice-barnes-nonja-tiller-real-characters-opening-reception
CATEGORIES:All Ages,Arts,Exhibition,Free,Public Reception
ATTACH;FMTTYPE=image/jpeg:https://outdoors.pgparks.com/wp-content/uploads/2025/11/Real-Characters-2026-600x400-1.jpg
END:VEVENT
BEGIN:VEVENT
DTSTART;TZID=America/New_York:20260502T120000
DTEND;TZID=America/New_York:20260502T130000
DTSTAMP:20260421T152635
CREATED:20260313T203820Z
LAST-MODIFIED:20260316T162257Z
UID:10002584-1777723200-1777726800@outdoors.pgparks.com
SUMMARY:Bollywood Fit Flow Dance Workshop
DESCRIPTION:Kick off May is Fitness Month with a high-energy Bollywood Fit Flow at Harmony Hall\, a dance session full of rhythm\, movement\, and fun! After the session\, head to the first floor lobby for a lively Asian American & Pacific Islander Heritage Month celebration featuring delicious food\, engaging entertainment\, and a meaningful tribute to AAPI culture. FREE for all ages.
URL:https://outdoors.pgparks.com/event_list/bollywood-fit-flow-dance-workshop
CATEGORIES:All Ages,Free,May is Fitness Month,Public Reception,Workshops
ATTACH;FMTTYPE=image/jpeg:https://outdoors.pgparks.com/wp-content/uploads/2026/03/Bollywood-Fit-Flow-2026-600x400-1.jpg
END:VEVENT
BEGIN:VEVENT
DTSTART;TZID=America/New_York:20260503T130000
DTEND;TZID=America/New_York:20260503T150000
DTSTAMP:20260421T152635
CREATED:20251111T222720Z
LAST-MODIFIED:20260220T172639Z
UID:10000296-1777813200-1777820400@outdoors.pgparks.com
SUMMARY:The 57th Annual Laurel Art Guild Juried Exhibition - Public Reception and Awards
DESCRIPTION:* This exhibition runs Apr. 18–May 31\, with a public reception and awards ceremony on Sun.\, May 3. * \n\n\n\nThis annual exhibition\, organized by the Laurel Art Guild\, is juried by a regional professional and shows works by artists ages 18 and older in the Washington\, D.C.\, area. The exhibit includes paintings\, drawings\, photographs\, wall-hung sculptures\, collages\, and more. Cash prizes are awarded for first\, second\, and third place\, along with three merit awards. Get involved and enjoy the support and camaraderie of your fellow local artists — more information is available at laurelartguild.org.
URL:https://outdoors.pgparks.com/event_list/the-57th-annual-laurel-art-guild-juried-exhibition-public-reception-and-awards
CATEGORIES:All Ages,Arts,Exhibition,Free,Public Reception
ATTACH;FMTTYPE=image/png:https://outdoors.pgparks.com/wp-content/uploads/2025/09/Laurel-Art-Guild-Juried-Exhibition-400x400-1.png
END:VEVENT
BEGIN:VEVENT
DTSTART;TZID=America/New_York:20260503T140000
DTEND;TZID=America/New_York:20260503T160000
DTSTAMP:20260421T152635
CREATED:20251111T222649Z
LAST-MODIFIED:20260403T121604Z
UID:10000153-1777816800-1777824000@outdoors.pgparks.com
SUMMARY:Linda Bernard: From the Earth - Public Reception
DESCRIPTION:* This exhibition runs Apr. 18–May 17\, with a public reception on Sun.\, May 3. * \n\n\n\nLinda Bernard is a resident artist whose work centers on hands‑on making across clay\, fabric\, and photography. In “From the Earth\,” Bernard presents ceramics\, horse hair raku\, quilts and photographs inspired by nature. Her ceramics and raku works emphasize experimentation with shape\, surface and fire while her quilts incorporate fabric\, paint and even recycled jewelry pins to tell a story with fabric. Her photographs feature trees and reflections at Collington Lake\, capturing the quiet beauty of the natural landscape.
URL:https://outdoors.pgparks.com/event_list/linda-bernard-from-the-earth-public-reception
CATEGORIES:All Ages,Arts,Exhibition,Free,Public Reception
ATTACH;FMTTYPE=image/png:https://outdoors.pgparks.com/wp-content/uploads/2025/11/Woodlands-cropped-to-square.png
END:VEVENT
BEGIN:VEVENT
DTSTART;TZID=America/New_York:20260530T140000
DTEND;TZID=America/New_York:20260530T160000
DTSTAMP:20260421T152635
CREATED:20251111T222720Z
LAST-MODIFIED:20260220T161037Z
UID:10000284-1780149600-1780156800@outdoors.pgparks.com
SUMMARY:Success: The Beauty Among Us - Public Reception
DESCRIPTION:* This exhibition runs May 26–Jul. 18\, with a public reception on Sat.\, May 30. * \n\n\n\nSuccess is a self-taught\, mixed-media artist born in Baltimore\, Maryland. Their artistic journey commenced at age eight and has steadily grown into a passionate exploration of various creative mediums. Now a new but prominent voice in contemporary art\, Success has developed a diverse portfolio encompassing digital photography\, photo manipulation\, and acrylic paintings. Success is a graduate of Howard University. They created a bridge between local D.C. photographers and the Howard photography community by organizing lectures\, workshops\, and collaboration opportunities among students. Characterized by a keen ability to transform aspects of the ordinary into extraordinary narratives\, Success’s work expresses complex human emotions through vivid colors\, dynamic forms\, and exaggerated color palettes.
URL:https://outdoors.pgparks.com/event_list/success-the-beauty-among-us-public-reception
CATEGORIES:All Ages,Arts,Exhibition,Free,Public Reception
ATTACH;FMTTYPE=image/png:https://outdoors.pgparks.com/wp-content/uploads/2025/01/Success-400x400-1.png
END:VEVENT
BEGIN:VEVENT
DTSTART;TZID=America/New_York:20260530T140000
DTEND;TZID=America/New_York:20260530T160000
DTSTAMP:20260421T152635
CREATED:20251111T222727Z
LAST-MODIFIED:20260220T160738Z
UID:10000298-1780149600-1780156800@outdoors.pgparks.com
SUMMARY:The Black Art Today Foundation: Ascension: A BIPOC Exhibition - Public Reception
DESCRIPTION:* This exhibition runs May 26–Jul. 18\, with a public reception on Sat.\, May 30. * \n\n\n\nAscension is a transformation journey\, a testament to the human spirit’s unwavering capacity to overcome obstacles and achieve greatness. This exhibition\, featuring the works of BIPOC artists\, delves into the lives of individuals who have defied limitations\, challenged norms\, and ultimately ascended to leave an enduring legacy. Each artwork is a visual biography\, capturing the essence of the subject’s unique path toward transcendence. The exhibition explores the multifaceted nature of ascension through diverse artistic mediums\, from the literal ascent of physical challenges to the metaphorical rise of social and personal triumphs.
URL:https://outdoors.pgparks.com/event_list/the-black-art-today-foundation-ascension-a-bipoc-exhibition-public-reception
CATEGORIES:All Ages,Arts,Exhibition,Free,Public Reception
ATTACH;FMTTYPE=image/png:https://outdoors.pgparks.com/wp-content/uploads/2025/01/THe-Black-Art-Today-Foundation-400x400-1.png
END:VEVENT
BEGIN:VEVENT
DTSTART;TZID=America/New_York:20260612T190000
DTEND;TZID=America/New_York:20260612T210000
DTSTAMP:20260421T152635
CREATED:20251111T222656Z
LAST-MODIFIED:20260220T151351Z
UID:10000176-1781290800-1781298000@outdoors.pgparks.com
SUMMARY:Melissa Burley - Public Reception
DESCRIPTION:* This exhibition runs May 23–Jun. 21\, with a public reception on Fri.\, Jun. 12. * \n\n\n\nMelissa Burley combines reclaimed and found objects from the past to create illuminated sculptures that may include glass\, test tubes\, furniture parts\, clocks\, bicycle components\, and resin. She sees the primary focus of her work as bringing life back into the things people once cherished and utilized\, thereby communicating a strong sense of the past.
URL:https://outdoors.pgparks.com/event_list/melissa-burley-public-reception
CATEGORIES:All Ages,Arts,Exhibition,Free,Public Reception
ATTACH;FMTTYPE=image/png:https://outdoors.pgparks.com/wp-content/uploads/2025/09/Melissa-Burley-400x400-1.png
END:VEVENT
BEGIN:VEVENT
DTSTART;TZID=America/New_York:20260612T190000
DTEND;TZID=America/New_York:20260612T210000
DTSTAMP:20260421T152635
CREATED:20251111T222712Z
LAST-MODIFIED:20260220T151302Z
UID:10000209-1781290800-1781298000@outdoors.pgparks.com
SUMMARY:Rashid Cornish: Whispers of the Divine – A Spiritual Journey Through Nature - Public Reception
DESCRIPTION:* This exhibition runs May 9–Jun. 21\, with a public reception on Fri.\, Jun. 12. * \n\n\n\nRashid Cornish explores the profound relationship between the natural world and spirituality through the delicate medium of pastel painting. The collection invites viewers to experience nature as an environment and a living\, breathing entity with spiritual significance and a connection to something greater in the cosmos.
URL:https://outdoors.pgparks.com/event_list/rashid-cornish-whispers-of-the-divine-a-spiritual-journey-through-nature-public-reception
CATEGORIES:All Ages,Arts,Exhibition,Free,Public Reception
ATTACH;FMTTYPE=image/png:https://outdoors.pgparks.com/wp-content/uploads/2025/09/Rashid-Cornish-400x400-1.png
END:VEVENT
BEGIN:VEVENT
DTSTART;TZID=America/New_York:20260612T190000
DTEND;TZID=America/New_York:20260612T210000
DTSTAMP:20260421T152635
CREATED:20251111T222720Z
LAST-MODIFIED:20260220T151056Z
UID:10000294-1781290800-1781298000@outdoors.pgparks.com
SUMMARY:The 45th Annual Invitational Sculpture Exhibition - Public Reception
DESCRIPTION:* This exhibition runs Jun. 12–Aug. 2\, with a public reception on Fri.\, Jun. 12 and an artist talk/luncheon on Fri.\, Jun. 19. * \n\n\n\nFor 45 years\, the Montpelier Arts Center has been proud to showcase the work of sculptors from throughout the region. The 45th annual Invitational Sculpture Exhibition will take place in the Main Gallery. To register for the Artist Talk/Luncheon\, please email MontpelierArts@pgparks.com or call 301-377-7800 by Fri.\, Jun. 5\, 2026.
URL:https://outdoors.pgparks.com/event_list/the-45th-annual-invitational-sculpture-exhibition-public-reception
CATEGORIES:All Ages,Arts,Exhibition,Free,Public Reception
ATTACH;FMTTYPE=image/png:https://outdoors.pgparks.com/wp-content/uploads/2025/09/45th-Annual-Sculpture-Exhibition-2025-400x400-1.png
END:VEVENT
BEGIN:VEVENT
DTSTART;TZID=America/New_York:20260618T180000
DTEND;TZID=America/New_York:20260618T200000
DTSTAMP:20260421T152635
CREATED:20251111T222613Z
LAST-MODIFIED:20260327T172418Z
UID:10000034-1781805600-1781812800@outdoors.pgparks.com
SUMMARY:Artist Reception: Rosana Azar
DESCRIPTION:* This exhibition runs Jun. 8–Jul. 26\, with a public reception on Thu.\, Jun. 18. * \n\n\n\nRosana is an Argentinian artist that explores Surrealism. She sees the universe as a powerful\, vivid place of continual transformation\, and her works attempt to capture glimpses of it. Every brushstroke\, color\, and shape gives insight into her heart and is a window to her soul. \n\n\n\nThis exhibit will be on display at the Publick Playhouse from June 8-July 26\, 2026\, and can be viewed during regular facility hours (M-F\, 9 am-5 pm). Please note that exhibits cannot be viewed when a performance or event is in progress. Before viewing an exhibit\, please call the Box Office at 301-277-1710 to check the performance schedule.
URL:https://outdoors.pgparks.com/event_list/artist-reception-rosana-azar
CATEGORIES:All Ages,Arts,Exhibition,Free,Public Reception
ATTACH;FMTTYPE=image/jpeg:https://outdoors.pgparks.com/wp-content/uploads/2026/03/Rosana-Azar-2026-600x400-1.jpg
END:VEVENT
BEGIN:VEVENT
DTSTART;TZID=America/New_York:20260619T120000
DTEND;TZID=America/New_York:20260619T140000
DTSTAMP:20260421T152635
CREATED:20251111T222720Z
LAST-MODIFIED:20260220T145909Z
UID:10000293-1781870400-1781877600@outdoors.pgparks.com
SUMMARY:The 45th Annual Invitational Sculpture Exhibition - Artist Talk/Luncheon
DESCRIPTION:* This exhibition runs Jun. 12–Aug. 2\, with a public reception on Fri.\, Jun. 12 and an artist talk/luncheon on Fri.\, Jun. 19. * \n\n\n\nFor 45 years\, the Montpelier Arts Center has been proud to showcase the work of sculptors from throughout the region. The 45th annual Invitational Sculpture Exhibition will take place in the Main Gallery. To register for the Artist Talk/Luncheon\, please email MontpelierArts@pgparks.com or call 301-377-7800 by Fri.\, Jun. 5\, 2026.
URL:https://outdoors.pgparks.com/event_list/the-45th-annual-invitational-sculpture-exhibition-artist-talk-luncheon
CATEGORIES:All Ages,Arts,Exhibition,Free,Public Reception
ATTACH;FMTTYPE=image/png:https://outdoors.pgparks.com/wp-content/uploads/2025/09/45th-Annual-Sculpture-Exhibition-2025-400x400-1.png
END:VEVENT
BEGIN:VEVENT
DTSTART;TZID=America/New_York:20260620T170000
DTEND;TZID=America/New_York:20260620T200000
DTSTAMP:20260421T152635
CREATED:20251111T222712Z
LAST-MODIFIED:20260318T181605Z
UID:10000207-1781974800-1781985600@outdoors.pgparks.com
SUMMARY:Frolic - Opening Reception
DESCRIPTION:* This exhibition runs Jun. 15–Aug. 15\, with a public reception on Sat.\, Jun. 20 and an artist and curator talk on Sat.\, Jul. 18. * \n\n\n\nCurated by Rashad Ali Muhammad in celebration of Pride Month\, Frolic is a bold tribute to queer resilience\, creativity\, and joy. Featuring C.S. Corbin\, Chrys Seawood\, Michael P. Jr.\, Miss Grace David\, and Shyama R. Cuver\, this exhibition asserts that joy is not just a byproduct of survival—it is a radical act of resistance. \n\n\n\nThrough collage\, sculpture\, installation\, and digital media\, these artists transform adversity into light\, affirming that queerness is a driving force for cultural progress\, innovation\, and healing. Radiant Resistance is a celebration of thriving\, existing\, and creating unapologetically.
URL:https://outdoors.pgparks.com/event_list/frolic-opening-reception
CATEGORIES:All Ages,Arts,Exhibition,Free,Public Reception
ATTACH;FMTTYPE=image/png:https://outdoors.pgparks.com/wp-content/uploads/2025/07/Radiant-1-400x400-1.png
END:VEVENT
BEGIN:VEVENT
DTSTART;TZID=America/New_York:20260711T140000
DTEND;TZID=America/New_York:20260711T160000
DTSTAMP:20260421T152635
CREATED:20251111T222605Z
LAST-MODIFIED:20260220T145143Z
UID:10000019-1783778400-1783785600@outdoors.pgparks.com
SUMMARY:Aaron Oldenburg: Night Walks - Public Reception
DESCRIPTION:* This exhibition runs Jun. 27–Aug. 8\, with a public reception on Sat.\, Jul. 11. * \n\n\n\nAaron Oldenburg creates artworks using game engines\, coding languages\, 2D and 3D digital art creation software\, and audio sampling. This exhibition is a series of procedural software works\, including interactive virtual reality\, that deal with memory\, climate instability\, and bodily de/re-composition. Prints of screenshots taken from them accompany the works.
URL:https://outdoors.pgparks.com/event_list/aaron-oldenburg-night-walks-public-reception
CATEGORIES:All Ages,Arts,Exhibition,Free,Public Reception
ATTACH;FMTTYPE=image/png:https://outdoors.pgparks.com/wp-content/uploads/2025/09/Aaron-Oldenburg.png
END:VEVENT
BEGIN:VEVENT
DTSTART;TZID=America/New_York:20260711T140000
DTEND;TZID=America/New_York:20260711T160000
DTSTAMP:20260421T152635
CREATED:20251111T222736Z
LAST-MODIFIED:20260220T145052Z
UID:10000323-1783778400-1783785600@outdoors.pgparks.com
SUMMARY:Visiting Resident Artist Exhibition - Public Reception
DESCRIPTION:* This exhibition runs Jun. 27–Aug. 2\, with a public reception on Sat.\, Jul. 11. * \n\n\n\nThis exhibition will showcase work by Montpelier Arts Center’s visiting resident artist\, who has been busy all year creating one-of-a-kind pieces. The Arts Center’s one-year artist residency is a juried competition\, allowing artists to join the resident artist community and conclude their residency with an exhibition.
URL:https://outdoors.pgparks.com/event_list/visiting-resident-artist-exhibition-public-reception
CATEGORIES:All Ages,Arts,Exhibition,Free,Public Reception
ATTACH;FMTTYPE=image/png:https://outdoors.pgparks.com/wp-content/uploads/2025/09/Visiting-Resident-Artist-Exhibition-400x400-1.png
END:VEVENT
BEGIN:VEVENT
DTSTART;TZID=America/New_York:20260801T140000
DTEND;TZID=America/New_York:20260801T160000
DTSTAMP:20260421T152635
CREATED:20251111T222656Z
LAST-MODIFIED:20260220T141413Z
UID:10000174-1785592800-1785600000@outdoors.pgparks.com
SUMMARY:Maria Santiago: Designing Through the Geometry - Public Reception
DESCRIPTION:* This exhibition runs Jul. 27–Sep. 5\, with a public reception on Sat.\, Aug. 1. * \n\n\n\nDesigning through the Geometry comprises two series\, Jupiter Background in Black and Time\, by Argentinian artist Maria Santiago. Time is invisible. The Past-Present-Future is one with constant movement: yesterday\, today\, and tomorrow. Time transforms into small movements or changes. Time is magic. The artist focuses on color and time\, where everything is always moving and everything changes. However\, the background is completely quiet\, and the shapes are only inside the circle as time passes. This mixed-media show focuses on what it means to explore texture and bright colors against geometric shapes.
URL:https://outdoors.pgparks.com/event_list/maria-santiago-designing-through-the-geometry-public-reception
CATEGORIES:All Ages,Arts,Exhibition,Free,Public Reception
ATTACH;FMTTYPE=image/png:https://outdoors.pgparks.com/wp-content/uploads/2025/01/Maria-Santiago.png
END:VEVENT
BEGIN:VEVENT
DTSTART;TZID=America/New_York:20260801T140000
DTEND;TZID=America/New_York:20260801T160000
DTSTAMP:20260421T152635
CREATED:20251111T222736Z
LAST-MODIFIED:20260220T141308Z
UID:10000326-1785592800-1785600000@outdoors.pgparks.com
SUMMARY:Washington Sculptors Group: Sculpture NOW 2026 - Public Reception
DESCRIPTION:* This exhibition runs Jul. 27–Sep. 5\, with a public reception on Sat.\, Aug. 1. * \n\n\n\nSculpture NOW 2026 is an annual non-thematic exhibition of new works by members of the Washington Sculptors Group. This juried group shows features artworks completed within the last two years. The Washington Sculptors Group (WSG) is a volunteer\, non-profit organization dedicated to promoting awareness of sculpture and fostering exchanges among sculptors\, sculpture enthusiasts\, and the public. Organized in 1984\, membership has grown to over 400; WSG sponsors frequent public programs and organizes professional sculpture exhibitions juried by prominent curators.
URL:https://outdoors.pgparks.com/event_list/washington-sculptors-group-sculpture-now-2026-public-reception
CATEGORIES:All Ages,Arts,Exhibition,Free,Public Reception
ATTACH;FMTTYPE=image/png:https://outdoors.pgparks.com/wp-content/uploads/2025/01/Washington-Sculptors-Group-400x400-1.png
END:VEVENT
END:VCALENDAR