BEGIN:VCALENDAR
VERSION:2.0
PRODID:-//Park and Recreation - Prince Georges County MD - ECPv6.15.18//NONSGML v1.0//EN
CALSCALE:GREGORIAN
METHOD:PUBLISH
X-WR-CALNAME:Park and Recreation - Prince Georges County MD
X-ORIGINAL-URL:https://outdoors.pgparks.com
X-WR-CALDESC:Events for Park and Recreation - Prince Georges County MD
REFRESH-INTERVAL;VALUE=DURATION:PT1H
X-Robots-Tag:noindex
X-PUBLISHED-TTL:PT1H
BEGIN:VTIMEZONE
TZID:America/New_York
BEGIN:DAYLIGHT
TZOFFSETFROM:-0500
TZOFFSETTO:-0400
TZNAME:EDT
DTSTART:20240310T070000
END:DAYLIGHT
BEGIN:STANDARD
TZOFFSETFROM:-0400
TZOFFSETTO:-0500
TZNAME:EST
DTSTART:20241103T060000
END:STANDARD
BEGIN:DAYLIGHT
TZOFFSETFROM:-0500
TZOFFSETTO:-0400
TZNAME:EDT
DTSTART:20250309T070000
END:DAYLIGHT
BEGIN:STANDARD
TZOFFSETFROM:-0400
TZOFFSETTO:-0500
TZNAME:EST
DTSTART:20251102T060000
END:STANDARD
BEGIN:DAYLIGHT
TZOFFSETFROM:-0500
TZOFFSETTO:-0400
TZNAME:EDT
DTSTART:20260308T070000
END:DAYLIGHT
BEGIN:STANDARD
TZOFFSETFROM:-0400
TZOFFSETTO:-0500
TZNAME:EST
DTSTART:20261101T060000
END:STANDARD
BEGIN:DAYLIGHT
TZOFFSETFROM:-0500
TZOFFSETTO:-0400
TZNAME:EDT
DTSTART:20270314T070000
END:DAYLIGHT
BEGIN:STANDARD
TZOFFSETFROM:-0400
TZOFFSETTO:-0500
TZNAME:EST
DTSTART:20271107T060000
END:STANDARD
END:VTIMEZONE
BEGIN:VEVENT
DTSTART;TZID=America/New_York:20251214T100000
DTEND;TZID=America/New_York:20251214T160000
DTSTAMP:20260421T182923
CREATED:20251111T222642Z
LAST-MODIFIED:20251204T214502Z
UID:10000122-1765706400-1765728000@outdoors.pgparks.com
SUMMARY:Holiday Trains and Planes
DESCRIPTION:Board the “College Park Express” as we transform the College Park Aviation Museum gallery into a miniature holiday town from the past. Experience the holiday season and the thrill of our annual Trains and Planes program. Participate in a festive craft\, see the museum’s own train collection\, and “meet and greet” train hobbyists who will take you back in time to experience the sights and sounds of their train displays. Free with museum admission.
URL:https://outdoors.pgparks.com/event_list/holiday-trains-and-planes/2025-12-14
CATEGORIES:History,Holidays & Celebrations,Senior,Youth
ATTACH;FMTTYPE=image/jpeg:https://outdoors.pgparks.com/wp-content/uploads/2024/11/Holiday-Planes-Trains.jpg
END:VEVENT
BEGIN:VEVENT
DTSTART;TZID=America/New_York:20251214T120000
DTEND;TZID=America/New_York:20251214T170000
DTSTAMP:20260421T182923
CREATED:20251111T222605Z
LAST-MODIFIED:20251210T165022Z
UID:10000012-1765713600-1765731600@outdoors.pgparks.com
SUMMARY:26th Annual Gingerbread House Contest and Show
DESCRIPTION:Join the tradition and visit the Gingerbread House Contest and Show held at Darnall’s Chance House Museum. See a dazzling display of gingerbread creations that reflect the rich history and vibrant culture of Prince George’s County\, Maryland. This year’s entries will celebrate the local landmarks\, architecture\, stories\, and traditions that showcase the unique heritage of Prince George’s County.
URL:https://outdoors.pgparks.com/event_list/26th-annual-gingerbread-house-contest-and-show/2025-12-14
CATEGORIES:Arts,Holidays & Celebrations,Lifestyle & Learning,Senior,Special Event,Special Events,Youth
END:VEVENT
BEGIN:VEVENT
DTSTART;TZID=America/New_York:20251214T160000
DTEND;TZID=America/New_York:20251214T173000
DTSTAMP:20260421T182923
CREATED:20251111T222605Z
LAST-MODIFIED:20251120T155500Z
UID:10000015-1765728000-1765733400@outdoors.pgparks.com
SUMMARY:A Holiday Soul Review featuring the Brencore All Stars
DESCRIPTION:Step back in time and groove to the soulful sounds of the ’60s and ’70s! Join us for an unforgettable evening as our live band brings the magic from powerhouse labels like Motown\, Stax\, and others. Feel the rhythm\, embrace the nostalgia\, and celebrate the season with timeless tunes to warm your heart and get you dancing. Perfect for fans of artists like Marvin Gaye\, Aretha Franklin\, and Otis Redding\, this concert promises to bring classic holiday hits to life. A soulful holiday celebration you won’t want to miss! \n\n\n\nNow with TWO performances: Friday\, December 12 at 8 pm and a newly added performance on Sunday\, December 14 at 4 pm. Please select your showtime using the buttons below to purchase tickets. \n\n\n\n              \n               \n               \n                    \n                        \n							                            														\n							                                Fri.\, Dec 12\, 8 pm \n                            \n                            							                            														\n							                                Sun.\, Dec 14\, 4 pm
URL:https://outdoors.pgparks.com/event_list/a-holiday-soul-review-featuring-the-brencore-all-stars/2025-12-14
CATEGORIES:Arts,Holidays & Celebrations,Performance,Performances
ATTACH;FMTTYPE=image/jpeg:https://outdoors.pgparks.com/wp-content/uploads/2025/07/Holiday-Soul-Review-400x400-1.jpg
END:VEVENT
BEGIN:VEVENT
DTSTART;TZID=America/New_York:20251217T100000
DTEND;TZID=America/New_York:20251217T104500
DTSTAMP:20260421T182923
CREATED:20251111T222712Z
LAST-MODIFIED:20251124T164351Z
UID:10000215-1765965600-1765968300@outdoors.pgparks.com
SUMMARY:Seasons of Light with Smithsonian’s Discovery Theater
DESCRIPTION:This performance is part of our Education on Stage Series and is recommended for Grades K-5. Joy\, warmth\, and community illuminate seasonal holiday festivals the world over. This signature show from Discovery Theater celebrates the history and customs of Diwali (Devali)\, Chanukah\, Las Posadas\, Ramadan\, Sankta Lucia Day\, Kwanzaa\, Christmas\, and the First Nations’ tradition of the Winter Solstice in an interactive extravaganza bridging communities and cultures. Please note\, everyone must have a ticket to enter\, regardless of age. Groups of 20+ can call 301-277-1710 for Group Sales or fill out the online request form. PLEASE NOTE: The performances originally scheduled for Dec 18 have been cancelled. \n\n\n\n              \n               \n               \n                    \n                        \n							                            														\n							                                Wed.\, Dec. 17\, 10 am Tickets\n                            \n                            							                            														\n							                                Wed.\, Dec. 17\, 11:15 am Tickets
URL:https://outdoors.pgparks.com/event_list/seasons-of-light-with-smithsonians-discovery-theater/2025-12-17/1
CATEGORIES:Arts,Holidays & Celebrations,Performance,Performances,Youth
ATTACH;FMTTYPE=image/jpeg:https://outdoors.pgparks.com/wp-content/uploads/2025/07/Seasons-Light-400x400-1.jpg
END:VEVENT
BEGIN:VEVENT
DTSTART;TZID=America/New_York:20251217T111500
DTEND;TZID=America/New_York:20251217T120000
DTSTAMP:20260421T182923
CREATED:20251111T222712Z
LAST-MODIFIED:20251124T164351Z
UID:10000216-1765970100-1765972800@outdoors.pgparks.com
SUMMARY:Seasons of Light with Smithsonian’s Discovery Theater
DESCRIPTION:This performance is part of our Education on Stage Series and is recommended for Grades K-5. Joy\, warmth\, and community illuminate seasonal holiday festivals the world over. This signature show from Discovery Theater celebrates the history and customs of Diwali (Devali)\, Chanukah\, Las Posadas\, Ramadan\, Sankta Lucia Day\, Kwanzaa\, Christmas\, and the First Nations’ tradition of the Winter Solstice in an interactive extravaganza bridging communities and cultures. Please note\, everyone must have a ticket to enter\, regardless of age. Groups of 20+ can call 301-277-1710 for Group Sales or fill out the online request form. PLEASE NOTE: The performances originally scheduled for Dec 18 have been cancelled. \n\n\n\n              \n               \n               \n                    \n                        \n							                            														\n							                                Wed.\, Dec. 17\, 10 am Tickets\n                            \n                            							                            														\n							                                Wed.\, Dec. 17\, 11:15 am Tickets
URL:https://outdoors.pgparks.com/event_list/seasons-of-light-with-smithsonians-discovery-theater/2025-12-17/2
CATEGORIES:Arts,Holidays & Celebrations,Performance,Performances,Youth
ATTACH;FMTTYPE=image/jpeg:https://outdoors.pgparks.com/wp-content/uploads/2025/07/Seasons-Light-400x400-1.jpg
END:VEVENT
BEGIN:VEVENT
DTSTART;TZID=America/New_York:20251220T100000
DTEND;TZID=America/New_York:20251220T120000
DTSTAMP:20260421T182923
CREATED:20251120T183935Z
LAST-MODIFIED:20251209T210423Z
UID:10000407-1766224800-1766232000@outdoors.pgparks.com
SUMMARY:Hands on History: Festival of Lights
DESCRIPTION:Join us for our Hands-On History program\, where we will make candles out of real bayberry wax and light them for luck in the New Year! At this special holiday event\, explore the local history of candle making and New Year’s traditions among the diverse communities of Maryland. Please note: children 10 & under must have a chaperone (no more than two adults per family).
URL:https://outdoors.pgparks.com/event_list/hands-on-history-winter-series-2
CATEGORIES:Arts,History,Holidays & Celebrations
ATTACH;FMTTYPE=image/jpeg:https://outdoors.pgparks.com/wp-content/uploads/2025/11/HOH-Festival-of-Lights-1.jpg
END:VEVENT
BEGIN:VEVENT
DTSTART;TZID=America/New_York:20251220T140000
DTEND;TZID=America/New_York:20251220T160000
DTSTAMP:20260421T182923
CREATED:20251111T222605Z
LAST-MODIFIED:20251124T163059Z
UID:10000013-1766239200-1766246400@outdoors.pgparks.com
SUMMARY:A Charlie Brown Christmas with The Eric Byrd Trio
DESCRIPTION:Christmastime is here! Montpelier Arts Center and The Eric Byrd Trio celebrate the season with an afternoon filled with festive music from the Peanuts’ special. Comprised of pianist/vocalist Eric Byrd\, bassist Bhagwan Khalsa\, and drummer Alphonso Young\, Jr.\, the Trio has traveled the world as enthusiastic ambassadors of jazz. Bringing fresh arrangements to these familiar songs\, they are sure to put you in a holiday mood. “Merry Christmas\, Charlie Brown!”
URL:https://outdoors.pgparks.com/event_list/a-charlie-brown-christmas-with-the-eric-byrd-trio
CATEGORIES:Arts,Holidays & Celebrations,Performance,Performances,Special Event,Special Events
ATTACH;FMTTYPE=image/png:https://outdoors.pgparks.com/wp-content/uploads/2025/11/Eric-Bird-Trio.png
END:VEVENT
BEGIN:VEVENT
DTSTART;TZID=America/New_York:20251220T140000
DTEND;TZID=America/New_York:20251220T180000
DTSTAMP:20260421T182923
CREATED:20251210T192816Z
LAST-MODIFIED:20251210T192819Z
UID:10000863-1766239200-1766253600@outdoors.pgparks.com
SUMMARY:Holiday Bazaar
DESCRIPTION:Join us for a fun filled day with arts & crafts\, cookie decorating\, stocking stuffing\, gifts\, refreshments\, secret shopping\, and pictures with Santa and friends.
URL:https://outdoors.pgparks.com/event_list/holiday-bazaar
CATEGORIES:Arts,Holidays & Celebrations
ATTACH;FMTTYPE=image/png:https://outdoors.pgparks.com/wp-content/uploads/2025/12/Holiday-Bazaar-600x400-1.png
END:VEVENT
BEGIN:VEVENT
DTSTART;TZID=America/New_York:20251231T211500
DTEND;TZID=America/New_York:20260101T003000
DTSTAMP:20260421T182923
CREATED:20251209T192909Z
LAST-MODIFIED:20260326T112517Z
UID:10000589-1767215700-1767227400@outdoors.pgparks.com
SUMMARY:Faith City Central’s New Year’s Eve Celebration
DESCRIPTION:New Year’s Eve Church Service \n\n\n\nDoors open at 9:15 PM and start time is 10 PM! \n\n\n\n\n\n\n\n\nLearn More!
URL:https://outdoors.pgparks.com/event_list/faith-city-centrals-new-years-eve-celebration
CATEGORIES:Holidays & Celebrations
ATTACH;FMTTYPE=image/jpeg:https://outdoors.pgparks.com/wp-content/uploads/2025/12/FCC1200x600.jpg
END:VEVENT
END:VCALENDAR