BEGIN:VCALENDAR
VERSION:2.0
PRODID:-//Park and Recreation - Prince Georges County MD - ECPv6.15.18//NONSGML v1.0//EN
CALSCALE:GREGORIAN
METHOD:PUBLISH
X-WR-CALNAME:Park and Recreation - Prince Georges County MD
X-ORIGINAL-URL:https://outdoors.pgparks.com
X-WR-CALDESC:Events for Park and Recreation - Prince Georges County MD
REFRESH-INTERVAL;VALUE=DURATION:PT1H
X-Robots-Tag:noindex
X-PUBLISHED-TTL:PT1H
BEGIN:VTIMEZONE
TZID:America/New_York
BEGIN:DAYLIGHT
TZOFFSETFROM:-0500
TZOFFSETTO:-0400
TZNAME:EDT
DTSTART:20250309T070000
END:DAYLIGHT
BEGIN:STANDARD
TZOFFSETFROM:-0400
TZOFFSETTO:-0500
TZNAME:EST
DTSTART:20251102T060000
END:STANDARD
BEGIN:DAYLIGHT
TZOFFSETFROM:-0500
TZOFFSETTO:-0400
TZNAME:EDT
DTSTART:20260308T070000
END:DAYLIGHT
BEGIN:STANDARD
TZOFFSETFROM:-0400
TZOFFSETTO:-0500
TZNAME:EST
DTSTART:20261101T060000
END:STANDARD
BEGIN:DAYLIGHT
TZOFFSETFROM:-0500
TZOFFSETTO:-0400
TZNAME:EDT
DTSTART:20270314T070000
END:DAYLIGHT
BEGIN:STANDARD
TZOFFSETFROM:-0400
TZOFFSETTO:-0500
TZNAME:EST
DTSTART:20271107T060000
END:STANDARD
END:VTIMEZONE
BEGIN:VEVENT
DTSTART;TZID=America/New_York:20260103T120000
DTEND;TZID=America/New_York:20260103T160000
DTSTAMP:20260421T010400
CREATED:20251224T141430Z
LAST-MODIFIED:20260303T181019Z
UID:10000880-1767441600-1767456000@outdoors.pgparks.com
SUMMARY:Dinosaur Park Open House
DESCRIPTION:Dinosaur Park Open Houses are a free public program on the first and third Saturday of every month and the second Sunday in the summer. No reservations required. Come join us and learn more about fossils\, including the dinosaurs who used to call Maryland home. Guests can expect an orientation and then the opportunity to search the surface of the ground for fossils. No prior registration required. ASL interpretation is offered at each event. All park rules apply (listed below).1. Closed toed shoes required2. No pets or tools allowed inside the fossil site3. Guests cannot cross the rope fence4. There is no digging during this program. All fossils are naturally eroding from the ground5. No running in the fossil site6. No throwing rocks or rolling rocks7. All scientifically important fossils will be kept in trust with the commission to be used for current and future research
URL:https://outdoors.pgparks.com/event_list/dinosaur-park-open-house/2026-01-03
CATEGORIES:All Ages,Free,History,Lifestyle & Learning,Youth
ATTACH;FMTTYPE=image/png:https://outdoors.pgparks.com/wp-content/uploads/2025/12/Dinosaur-Park-600x400-1.png
END:VEVENT
BEGIN:VEVENT
DTSTART;TZID=America/New_York:20260107T180000
DTEND;TZID=America/New_York:20260107T190000
DTSTAMP:20260421T010400
CREATED:20251204T185625Z
LAST-MODIFIED:20251211T190809Z
UID:10000588-1767808800-1767812400@outdoors.pgparks.com
SUMMARY:Food as Preventive Medicine
DESCRIPTION:Learn how to use food as your first defense against colds\, flu\, and other winter illnesses. This workshop will highlight immune-boosting nutrients and simple ways to eat for better health all season long. Registration required. All ages welcome; FREE 
URL:https://outdoors.pgparks.com/event_list/food-as-preventive-medicine
CATEGORIES:Health & Wellness,Lifestyle & Learning,Virtual
ATTACH;FMTTYPE=image/jpeg:https://outdoors.pgparks.com/wp-content/uploads/2025/12/Food-as-Preventive-Medicine-1.jpg
END:VEVENT
BEGIN:VEVENT
DTSTART;TZID=America/New_York:20260113T180000
DTEND;TZID=America/New_York:20260113T190000
DTSTAMP:20260421T010400
CREATED:20251210T133824Z
LAST-MODIFIED:20251210T134148Z
UID:10000591-1768327200-1768330800@outdoors.pgparks.com
SUMMARY:New Year\, Fresh Start: S.M.A.R.T. Goal Setting Workshop
DESCRIPTION:Learn how to use food as your first defense against colds\, flu\, and other winter illnesses. This workshop will highlight immune-boosting nutrients and simple ways to eat for better health all season long. Registration required. All ages welcome; FREE 
URL:https://outdoors.pgparks.com/event_list/new-year-fresh-start-s-m-a-r-t-goal-setting-workshop
CATEGORIES:Health & Wellness,Lifestyle & Learning,Virtual
ATTACH;FMTTYPE=image/jpeg:https://outdoors.pgparks.com/wp-content/uploads/2025/12/New-Year-Fresh-Start-S.M.A.R.T.-Goal-Setting-Workshop.jpg
END:VEVENT
BEGIN:VEVENT
DTSTART;TZID=America/New_York:20260117T103000
DTEND;TZID=America/New_York:20260117T113000
DTSTAMP:20260421T010400
CREATED:20251111T222620Z
LAST-MODIFIED:20260109T143208Z
UID:10000058-1768645800-1768649400@outdoors.pgparks.com
SUMMARY:Cub Corner
DESCRIPTION:Join us for a special bilingual reading of Almost Underwear authored by local teacher Jonathan Roth. After the story\, kids can get creative by making their own adorable canvas or fabric pals—just like the character in the book! This program is recommended for little learners ages 3-6. FREE with museum admission. Register in advance to secure your spot! Walk-in spaces will be available on a first-come\, first-served basis. Visit pgparksdirect.com and register for Activity Code: Cub Corner!
URL:https://outdoors.pgparks.com/event_list/cub-corner
CATEGORIES:History,Lifestyle & Learning,Literary,Youth
ATTACH;FMTTYPE=image/jpeg:https://outdoors.pgparks.com/wp-content/uploads/2024/11/Cub-Corner.jpg
END:VEVENT
BEGIN:VEVENT
DTSTART;TZID=America/New_York:20260117T120000
DTEND;TZID=America/New_York:20260117T160000
DTSTAMP:20260421T010400
CREATED:20251224T141430Z
LAST-MODIFIED:20260303T181019Z
UID:10000889-1768651200-1768665600@outdoors.pgparks.com
SUMMARY:Dinosaur Park Open House
DESCRIPTION:Dinosaur Park Open Houses are a free public program on the first and third Saturday of every month and the second Sunday in the summer. No reservations required. Come join us and learn more about fossils\, including the dinosaurs who used to call Maryland home. Guests can expect an orientation and then the opportunity to search the surface of the ground for fossils. No prior registration required. ASL interpretation is offered at each event. All park rules apply (listed below).1. Closed toed shoes required2. No pets or tools allowed inside the fossil site3. Guests cannot cross the rope fence4. There is no digging during this program. All fossils are naturally eroding from the ground5. No running in the fossil site6. No throwing rocks or rolling rocks7. All scientifically important fossils will be kept in trust with the commission to be used for current and future research
URL:https://outdoors.pgparks.com/event_list/dinosaur-park-open-house/2026-01-17
CATEGORIES:All Ages,Free,History,Lifestyle & Learning,Youth
ATTACH;FMTTYPE=image/png:https://outdoors.pgparks.com/wp-content/uploads/2025/12/Dinosaur-Park-600x400-1.png
END:VEVENT
BEGIN:VEVENT
DTSTART;TZID=America/New_York:20260120T130000
DTEND;TZID=America/New_York:20260120T140000
DTSTAMP:20260421T010400
CREATED:20251210T135135Z
LAST-MODIFIED:20251211T175646Z
UID:10000593-1768914000-1768917600@outdoors.pgparks.com
SUMMARY:Healthy Comfort Foods Cooking Demonstration
DESCRIPTION:Warm up this winter with cozy favorites made healthier! Join us for this cooking demonstration where we’ll show you how to lighten up classic comfort foods. All ages welcome. Registration required; FREE.
URL:https://outdoors.pgparks.com/event_list/healthy-comfort-foods-cooking-demonstration
CATEGORIES:Health & Wellness,Lifestyle & Learning
ATTACH;FMTTYPE=image/png:https://outdoors.pgparks.com/wp-content/uploads/2025/12/Healthy-Swaps-for-Holiday-Favorites-Cooking-Demonstration-1.png
END:VEVENT
BEGIN:VEVENT
DTSTART;TZID=America/New_York:20260124T103000
DTEND;TZID=America/New_York:20260124T113000
DTSTAMP:20260421T010400
CREATED:20251111T222605Z
LAST-MODIFIED:20260109T143212Z
UID:10000003-1769250600-1769254200@outdoors.pgparks.com
SUMMARY:STEAM Hour
DESCRIPTION:Join our educators at this hands-on activity table where creativity takes flight! Perfect for budding engineers and aviation enthusiasts\, this interactive program allows visitors to design and build their own creations. Whether you’re constructing airplanes\, airports\, or inventing something entirely new\, Saturday STEAM Hour encourages you to dream big and bring your ideas to life. Drop in anytime during the hour for an opportunity to explore the wonders of aviation through play. This program is ideal for learners ages 6-12 and is FREE with museum admission.
URL:https://outdoors.pgparks.com/event_list/steam-hour
CATEGORIES:History,Lifestyle & Learning,Technology,Youth
ATTACH;FMTTYPE=image/jpeg:https://outdoors.pgparks.com/wp-content/uploads/2024/11/Lego-AA.jpg
END:VEVENT
BEGIN:VEVENT
DTSTART;TZID=America/New_York:20260131T110000
DTEND;TZID=America/New_York:20260131T150000
DTSTAMP:20260421T010400
CREATED:20260122T151616Z
LAST-MODIFIED:20260122T151618Z
UID:10001166-1769857200-1769871600@outdoors.pgparks.com
SUMMARY:Seed Swap Festival
DESCRIPTION:Join M-NCPPC\, Department of Parks and Recreation\, Prince George’s County\, Anacostia Watershed Society\, & Mount Rainier Public Library to celebrate National Seed Swap Day. Exchange seeds with your neighbors and meet local organizations as you prepare for spring and diversify your garden! \n\n\n\nActivities: \n\n\n\nChildren’s Story Time: 11:30 am-12 noonCraft: 12 noon-12:30 pmWinter Seed Starting: 1-3 pm
URL:https://outdoors.pgparks.com/event_list/seed-swap-festival
CATEGORIES:Health & Wellness,Lifestyle & Learning,Nature & Outdoor
END:VEVENT
END:VCALENDAR