BEGIN:VCALENDAR
VERSION:2.0
PRODID:-//Park and Recreation - Prince Georges County MD - ECPv6.15.18//NONSGML v1.0//EN
CALSCALE:GREGORIAN
METHOD:PUBLISH
X-WR-CALNAME:Park and Recreation - Prince Georges County MD
X-ORIGINAL-URL:https://outdoors.pgparks.com
X-WR-CALDESC:Events for Park and Recreation - Prince Georges County MD
REFRESH-INTERVAL;VALUE=DURATION:PT1H
X-Robots-Tag:noindex
X-PUBLISHED-TTL:PT1H
BEGIN:VTIMEZONE
TZID:America/New_York
BEGIN:DAYLIGHT
TZOFFSETFROM:-0500
TZOFFSETTO:-0400
TZNAME:EDT
DTSTART:20240310T070000
END:DAYLIGHT
BEGIN:STANDARD
TZOFFSETFROM:-0400
TZOFFSETTO:-0500
TZNAME:EST
DTSTART:20241103T060000
END:STANDARD
BEGIN:DAYLIGHT
TZOFFSETFROM:-0500
TZOFFSETTO:-0400
TZNAME:EDT
DTSTART:20250309T070000
END:DAYLIGHT
BEGIN:STANDARD
TZOFFSETFROM:-0400
TZOFFSETTO:-0500
TZNAME:EST
DTSTART:20251102T060000
END:STANDARD
BEGIN:DAYLIGHT
TZOFFSETFROM:-0500
TZOFFSETTO:-0400
TZNAME:EDT
DTSTART:20260308T070000
END:DAYLIGHT
BEGIN:STANDARD
TZOFFSETFROM:-0400
TZOFFSETTO:-0500
TZNAME:EST
DTSTART:20261101T060000
END:STANDARD
BEGIN:DAYLIGHT
TZOFFSETFROM:-0500
TZOFFSETTO:-0400
TZNAME:EDT
DTSTART:20270314T070000
END:DAYLIGHT
BEGIN:STANDARD
TZOFFSETFROM:-0400
TZOFFSETTO:-0500
TZNAME:EST
DTSTART:20271107T060000
END:STANDARD
END:VTIMEZONE
BEGIN:VEVENT
DTSTART;TZID=America/New_York:20251110T100000
DTEND;TZID=America/New_York:20260103T160000
DTSTAMP:20260421T165542
CREATED:20251114T195244Z
LAST-MODIFIED:20251203T223916Z
UID:10000336-1762768800-1767456000@outdoors.pgparks.com
SUMMARY:Keith Kreuger: What You See Is What You Get
DESCRIPTION:This exhibition runs Nov. 10\, 2025-Jan. 3\, 2026\, with an opening reception on Sat.\, Nov. 15 and an artist and curator talk on Sat.\, Dec. 20. \n\n\n\nIn What You See Is What You Get\, artist Keith Kreuger presents a striking collection of found object assemblages that challenge perceptions of art\, value\, and transformation. Using everyday materials and discarded objects\, Kreuger crafts intricate\, thought-provoking sculptures that invite viewers to reconsider the beauty and potential of what is often overlooked. Each piece tells a story of reclamation and reinvention\, offering a fresh perspective on the power of artistic expression through the art of assemblage.
URL:https://outdoors.pgparks.com/event_list/keith-kreuger-what-you-see-is-what-you-get
CATEGORIES:Arts,Exhibition,Public Reception
ATTACH;FMTTYPE=image/png:https://outdoors.pgparks.com/wp-content/uploads/2025/07/Keith-Kruger-400x400-1.png
END:VEVENT
BEGIN:VEVENT
DTSTART;TZID=America/New_York:20251110T100000
DTEND;TZID=America/New_York:20260103T160000
DTSTAMP:20260421T165542
CREATED:20251114T203835Z
LAST-MODIFIED:20251203T223856Z
UID:10000338-1762768800-1767456000@outdoors.pgparks.com
SUMMARY:Hits Different: 5 Under 35
DESCRIPTION:* This exhibition runs Nov. 10\, 2025–Jan. 3\, 2026\, with a public reception on Sat.\, Nov. 15 and an artist and curator talk on Sat.\, Dec. 20. * \n\n\n\nCurated by Emily Fussner\, Hits Different: 5 Under 35 spotlights the fresh perspectives and bold creativity of five emerging artists—Milan Warner\, Marisa Stratton\, Madyha Leghari\, MK Bailey\, and Ara Koh. This exhibition showcases innovative approaches to material\, form\, and storytelling\, reflecting the dynamic voices shaping the next generation of contemporary art. With a focus on experimentation and personal narrative\, Hits Different captures the energy and evolution of young artists redefining the visual landscape.
URL:https://outdoors.pgparks.com/event_list/hits-different-5-under-35
CATEGORIES:Arts,Exhibition,Public Reception
ATTACH;FMTTYPE=image/jpeg:https://outdoors.pgparks.com/wp-content/uploads/2025/11/Hits-Different-400x400-1.jpg
END:VEVENT
BEGIN:VEVENT
DTSTART;TZID=America/New_York:20251206T150000
DTEND;TZID=America/New_York:20251206T170000
DTSTAMP:20260421T165542
CREATED:20251111T222720Z
LAST-MODIFIED:20251203T223103Z
UID:10000291-1765033200-1765040400@outdoors.pgparks.com
SUMMARY:The 37th Annual Prince George's County Juried Exhibition - Public Reception
DESCRIPTION:* This exhibition runs Nov. 8\, 2025–Jan. 3\, 2026\, with a public reception on Sat.\, Dec. 6. * \n\n\n\nThe 37th Annual Prince George’s County Juried Exhibition draws on the vast corps of visual artists who live\, work\, attend college\, or maintain a studio in Prince George’s County. The exhibition fosters an inclusive\, community spirit among the participating artists and showcases their varied talents\, skills\, and diverse media uses.
URL:https://outdoors.pgparks.com/event_list/the-37th-annual-prince-georges-county-juried-exhibition-public-reception
CATEGORIES:Arts,Exhibition,Public Reception
ATTACH;FMTTYPE=image/png:https://outdoors.pgparks.com/wp-content/uploads/2025/09/37-Juried-Exhibition-2025-400x400-1.png
END:VEVENT
BEGIN:VEVENT
DTSTART;TZID=America/New_York:20251214T140000
DTEND;TZID=America/New_York:20251214T160000
DTSTAMP:20260421T165542
CREATED:20251111T222613Z
LAST-MODIFIED:20251203T222740Z
UID:10000042-1765720800-1765728000@outdoors.pgparks.com
SUMMARY:Berchel Douglas: Portraits of a City - Public Reception
DESCRIPTION:This exhibition runs Nov. 13\, 2025-Jan. 4\, 2026\, with a public reception on Sun.\, Dec. 14. \n\n\n\nBerchel Douglas celebrates the diversity and creativity of Washington\, D.C.\, through street photography and portraiture\, focusing on friends\, local creatives\, business owners\, and fellow artists. Together\, the images are a tribute to the spirit of community\, highlighting the complexity of urban life through stories that often go unnoticed but are vital to the city’s identity.
URL:https://outdoors.pgparks.com/event_list/berchel-douglas-portraits-of-a-city-public-reception
CATEGORIES:Arts,Exhibition,Public Reception
ATTACH;FMTTYPE=image/png:https://outdoors.pgparks.com/wp-content/uploads/2025/09/Berchel-Douglas-400x400-1.png
END:VEVENT
BEGIN:VEVENT
DTSTART;TZID=America/New_York:20251214T140000
DTEND;TZID=America/New_York:20251214T160000
DTSTAMP:20260421T165542
CREATED:20251111T222627Z
LAST-MODIFIED:20251208T204624Z
UID:10000070-1765720800-1765728000@outdoors.pgparks.com
SUMMARY:David Brosch: My Maryland - Public Reception
DESCRIPTION:* This exhibition runs Nov. 11–Dec. 14\, with a public reception on Sun.\, Dec. 14. * \n\n\n\nPainter and printmaker David Brosch has lived in Maryland for decades and raised his family in Prince George’s County. He takes inspiration from his surroundings for the works in this latest exhibition\, featuring oil paintings\, prints\, and drawings. The landscapes in this show include representations of both natural and urban areas.
URL:https://outdoors.pgparks.com/event_list/david-brosch-my-maryland-public-reception
CATEGORIES:Arts,Exhibition,Public Reception
ATTACH;FMTTYPE=image/png:https://outdoors.pgparks.com/wp-content/uploads/2025/09/David-Brosch-400x400-1.png
END:VEVENT
END:VCALENDAR